BEGIN:VCALENDAR
VERSION:2.0
PRODID:-//Ungeprobt-genial! - ECPv6.15.20//NONSGML v1.0//EN
CALSCALE:GREGORIAN
METHOD:PUBLISH
X-WR-CALNAME:Ungeprobt-genial!
X-ORIGINAL-URL:https://ungeprobt-genial.de
X-WR-CALDESC:Veranstaltungen für Ungeprobt-genial!
REFRESH-INTERVAL;VALUE=DURATION:PT1H
X-Robots-Tag:noindex
X-PUBLISHED-TTL:PT1H
BEGIN:VTIMEZONE
TZID:Europe/Berlin
BEGIN:DAYLIGHT
TZOFFSETFROM:+0100
TZOFFSETTO:+0200
TZNAME:CEST
DTSTART:20240331T010000
END:DAYLIGHT
BEGIN:STANDARD
TZOFFSETFROM:+0200
TZOFFSETTO:+0100
TZNAME:CET
DTSTART:20241027T010000
END:STANDARD
BEGIN:DAYLIGHT
TZOFFSETFROM:+0100
TZOFFSETTO:+0200
TZNAME:CEST
DTSTART:20250330T010000
END:DAYLIGHT
BEGIN:STANDARD
TZOFFSETFROM:+0200
TZOFFSETTO:+0100
TZNAME:CET
DTSTART:20251026T010000
END:STANDARD
BEGIN:DAYLIGHT
TZOFFSETFROM:+0100
TZOFFSETTO:+0200
TZNAME:CEST
DTSTART:20260329T010000
END:DAYLIGHT
BEGIN:STANDARD
TZOFFSETFROM:+0200
TZOFFSETTO:+0100
TZNAME:CET
DTSTART:20261025T010000
END:STANDARD
END:VTIMEZONE
BEGIN:VEVENT
DTSTART;TZID=Europe/Berlin:20250613T203000
DTEND;TZID=Europe/Berlin:20250613T230000
DTSTAMP:20260421T221437
CREATED:20250512T152251Z
LAST-MODIFIED:20250512T152251Z
UID:1493-1749846600-1749855600@ungeprobt-genial.de
SUMMARY:Romantisches Lichterfest
DESCRIPTION:Auch dieses Jahr sind wir wieder auf dem Gelände des Zwickauer Schwanenteiches zu hören. Bei romantischem Kerzenschein könnt ihr uns insgesamt dreimal auf der Langen Wiese sehen.
URL:https://ungeprobt-genial.de/event/romantisches-lichterfest/
LOCATION:Schwanenteich Zwickau\, Am Schwanenteich\, Zwickau\, Sachsen\, 08058\, Germany
CATEGORIES:Auftritte
END:VEVENT
END:VCALENDAR