BEGIN:VCALENDAR
VERSION:2.0
PRODID:-//Ungeprobt-genial! - ECPv6.15.20//NONSGML v1.0//EN
CALSCALE:GREGORIAN
METHOD:PUBLISH
X-WR-CALNAME:Ungeprobt-genial!
X-ORIGINAL-URL:https://ungeprobt-genial.de
X-WR-CALDESC:Veranstaltungen für Ungeprobt-genial!
REFRESH-INTERVAL;VALUE=DURATION:PT1H
X-Robots-Tag:noindex
X-PUBLISHED-TTL:PT1H
BEGIN:VTIMEZONE
TZID:Europe/Berlin
BEGIN:DAYLIGHT
TZOFFSETFROM:+0100
TZOFFSETTO:+0200
TZNAME:CEST
DTSTART:20240331T010000
END:DAYLIGHT
BEGIN:STANDARD
TZOFFSETFROM:+0200
TZOFFSETTO:+0100
TZNAME:CET
DTSTART:20241027T010000
END:STANDARD
BEGIN:DAYLIGHT
TZOFFSETFROM:+0100
TZOFFSETTO:+0200
TZNAME:CEST
DTSTART:20250330T010000
END:DAYLIGHT
BEGIN:STANDARD
TZOFFSETFROM:+0200
TZOFFSETTO:+0100
TZNAME:CET
DTSTART:20251026T010000
END:STANDARD
BEGIN:DAYLIGHT
TZOFFSETFROM:+0100
TZOFFSETTO:+0200
TZNAME:CEST
DTSTART:20260329T010000
END:DAYLIGHT
BEGIN:STANDARD
TZOFFSETFROM:+0200
TZOFFSETTO:+0100
TZNAME:CET
DTSTART:20261025T010000
END:STANDARD
END:VTIMEZONE
BEGIN:VEVENT
DTSTART;TZID=Europe/Berlin:20251206T170000
DTEND;TZID=Europe/Berlin:20251206T183000
DTSTAMP:20260421T130232
CREATED:20250126T180803Z
LAST-MODIFIED:20250126T180803Z
UID:1352-1765040400-1765045800@ungeprobt-genial.de
SUMMARY:Lichtergottesdienst Crossen
DESCRIPTION:Wir dürfen auch 2025 wieder den Lichtergottesdienst mit besinnlicher Musik begleiten. Wir freuen uns schon!
URL:https://ungeprobt-genial.de/event/lichtergottesdienst-crossen-2/
LOCATION:Kirchgemeinde Zwickau Crossen\, Crossener Kirchstraße 1\, Zwickau\, Sachsen\, 08058\, Germany
CATEGORIES:Auftritte
END:VEVENT
BEGIN:VEVENT
DTSTART;TZID=Europe/Berlin:20251206T190000
DTEND;TZID=Europe/Berlin:20251206T210000
DTSTAMP:20260421T130232
CREATED:20250126T175828Z
LAST-MODIFIED:20250126T175951Z
UID:1345-1765047600-1765054800@ungeprobt-genial.de
SUMMARY:Weihnachtsmarkt Crossen
DESCRIPTION:Auch dieses Jahr spielen wir wieder auf dem Weihnachtsmarkt der Feuerwehr in Crossen und untermalen dort die gemütliche Stimmung mit klassischen und poppigen Weihnachtsliedern.
URL:https://ungeprobt-genial.de/event/weihnachtsmarkt-crossen-2/
LOCATION:FFW Crossen\, Schneppendorfer Straße 21\, Zwickau\, Sachsen\, 08058\, Deutschland
CATEGORIES:Auftritte
END:VEVENT
END:VCALENDAR