BEGIN:VCALENDAR
VERSION:2.0
PRODID:-//Ungeprobt-genial! - ECPv6.15.20//NONSGML v1.0//EN
CALSCALE:GREGORIAN
METHOD:PUBLISH
X-WR-CALNAME:Ungeprobt-genial!
X-ORIGINAL-URL:https://ungeprobt-genial.de
X-WR-CALDESC:Veranstaltungen für Ungeprobt-genial!
REFRESH-INTERVAL;VALUE=DURATION:PT1H
X-Robots-Tag:noindex
X-PUBLISHED-TTL:PT1H
BEGIN:VTIMEZONE
TZID:Europe/Berlin
BEGIN:DAYLIGHT
TZOFFSETFROM:+0100
TZOFFSETTO:+0200
TZNAME:CEST
DTSTART:20240331T010000
END:DAYLIGHT
BEGIN:STANDARD
TZOFFSETFROM:+0200
TZOFFSETTO:+0100
TZNAME:CET
DTSTART:20241027T010000
END:STANDARD
BEGIN:DAYLIGHT
TZOFFSETFROM:+0100
TZOFFSETTO:+0200
TZNAME:CEST
DTSTART:20250330T010000
END:DAYLIGHT
BEGIN:STANDARD
TZOFFSETFROM:+0200
TZOFFSETTO:+0100
TZNAME:CET
DTSTART:20251026T010000
END:STANDARD
BEGIN:DAYLIGHT
TZOFFSETFROM:+0100
TZOFFSETTO:+0200
TZNAME:CEST
DTSTART:20260329T010000
END:DAYLIGHT
BEGIN:STANDARD
TZOFFSETFROM:+0200
TZOFFSETTO:+0100
TZNAME:CET
DTSTART:20261025T010000
END:STANDARD
END:VTIMEZONE
BEGIN:VEVENT
DTSTART;TZID=Europe/Berlin:20250620T190000
DTEND;TZID=Europe/Berlin:20250620T220000
DTSTAMP:20260421T211938
CREATED:20241119T152328Z
LAST-MODIFIED:20250613T090952Z
UID:507-1750446000-1750456800@ungeprobt-genial.de
SUMMARY:Livemusik im Schloss Hinterglauchau!
DESCRIPTION:Auch 2025 freuen wir uns nun schon zum zweiten Mal im Schlosshof Hinterglauchau spielen zu dürfen. Wir untermalen den lauen Sommerabend mit einer Menge guter Unterhaltungsmusik und genießem dabei gemeinsam den Sonnenuntergang. Das diesjährige Motto lautet: Das passt auf keine Kuhhaut!
URL:https://ungeprobt-genial.de/event/livemusik-im-schloss-hinterglauchau/
LOCATION:Schloss Hinterglauchau\, Schlossplatz 5a\, Glauchau\, Sachsen\, 08371\, Deutschland
CATEGORIES:Auftritte
END:VEVENT
END:VCALENDAR