BEGIN:VCALENDAR
VERSION:2.0
PRODID:-//Ungeprobt-genial! - ECPv6.15.20//NONSGML v1.0//EN
CALSCALE:GREGORIAN
METHOD:PUBLISH
X-ORIGINAL-URL:https://ungeprobt-genial.de
X-WR-CALDESC:Veranstaltungen für Ungeprobt-genial!
REFRESH-INTERVAL;VALUE=DURATION:PT1H
X-Robots-Tag:noindex
X-PUBLISHED-TTL:PT1H
BEGIN:VTIMEZONE
TZID:Europe/Berlin
BEGIN:DAYLIGHT
TZOFFSETFROM:+0100
TZOFFSETTO:+0200
TZNAME:CEST
DTSTART:20240331T010000
END:DAYLIGHT
BEGIN:STANDARD
TZOFFSETFROM:+0200
TZOFFSETTO:+0100
TZNAME:CET
DTSTART:20241027T010000
END:STANDARD
BEGIN:DAYLIGHT
TZOFFSETFROM:+0100
TZOFFSETTO:+0200
TZNAME:CEST
DTSTART:20250330T010000
END:DAYLIGHT
BEGIN:STANDARD
TZOFFSETFROM:+0200
TZOFFSETTO:+0100
TZNAME:CET
DTSTART:20251026T010000
END:STANDARD
BEGIN:DAYLIGHT
TZOFFSETFROM:+0100
TZOFFSETTO:+0200
TZNAME:CEST
DTSTART:20260329T010000
END:DAYLIGHT
BEGIN:STANDARD
TZOFFSETFROM:+0200
TZOFFSETTO:+0100
TZNAME:CET
DTSTART:20261025T010000
END:STANDARD
END:VTIMEZONE
BEGIN:VEVENT
DTSTART;TZID=Europe/Berlin:20251129T143000
DTEND;TZID=Europe/Berlin:20251129T153000
DTSTAMP:20260421T225533
CREATED:20250116T185029Z
LAST-MODIFIED:20250116T185029Z
UID:1227-1764426600-1764430200@ungeprobt-genial.de
SUMMARY:Weihnachtsmarkt Kirchberg
DESCRIPTION:Am Samstag vor dem ersten Advent sind wir am Nachmittag auf dem Kirchberger Weihnachtsmarkt zu hören. Dort verbreiten wir sowohl mit klassischen\, als auch mit modernen Liedern\, weihnachtliche Stimmung.
URL:https://ungeprobt-genial.de/event/weihnachtsmarkt-kirchberg/
LOCATION:Weihnachtsmarkt Kirchberg\, Altmarkt\, Kirchberg\, Sachsen\, 08107\, Germany
CATEGORIES:Auftritte
END:VEVENT
BEGIN:VEVENT
DTSTART;TZID=Europe/Berlin:20251130T143000
DTEND;TZID=Europe/Berlin:20251130T153000
DTSTAMP:20260421T225533
CREATED:20250926T110036Z
LAST-MODIFIED:20250926T110036Z
UID:1587-1764513000-1764516600@ungeprobt-genial.de
SUMMARY:Weihnachtsmarkt Zwickau
DESCRIPTION:Auch 2025 sind wir wieder Teil der musikalischen Unterhaltung des Zwickauer Weihnachtsmarktes. Unser erster Auftritt findet dabei am 30.11. von 14:30 Uhr – 15:30 Uhr statt.
URL:https://ungeprobt-genial.de/event/weihnachtsmarkt-zwickau-3/
LOCATION:Weihnachtsmarkt Zwickau\, Neben der großen Pyramide\, Hauptmarkt\, Zwickau\, Sachsen\, 08056\, Germany
CATEGORIES:Auftritte
END:VEVENT
BEGIN:VEVENT
DTSTART;TZID=Europe/Berlin:20251130T173000
DTEND;TZID=Europe/Berlin:20251130T190000
DTSTAMP:20260421T225533
CREATED:20250926T114146Z
LAST-MODIFIED:20250926T114520Z
UID:1593-1764523800-1764529200@ungeprobt-genial.de
SUMMARY:Weihnachtsmarkt Hartenstein
DESCRIPTION:Nach dem Besuch des Zwickauer Weihnachtsmarktes sind wir am Sonntagabend\, den 30. November\, mit einem weihnachtlichen Programm auf dem Weihnachtsmarkt in Hartenstein zu hören.
URL:https://ungeprobt-genial.de/event/weihnachtsmarkt-hartenstein-2/
LOCATION:Weihnachtsmarkt Hartenstein\, Marktplatz\, Hartenstein\, Sachsen\, 08118\, Germany
CATEGORIES:Auftritte
END:VEVENT
END:VCALENDAR